Workbook

Sheet PL1A
A1: UBND PHƯỜNG PHỐ HIẾN
A2: PHỤ LỤC 1A
A3: THỐNG KÊ QUY MÔ DÂN SỐ CỦA TỔ DÂN PHỐ TRÊN ĐỊA BÀN PHƯỜNG PHỐ HIẾN
A4: (Kèm theo Đề án số /ĐA-UBND ngày /06/2026 của UBND phường Phố Hiến)
A6: STT | B6: Tên thôn/ tổ dân phố | C6: Quy mô số hộ gia đình | E6: Số dân | F6: Yếu tố đặc thù (nếu có) | G6: Thuộc diện sắp xếp, tổ chức lại | H6: Thuộc diện giải thể | I6: Không thuộc diện sắp xếp, tổ chức lại | J6: Ghi chú
C7: Quy mô số hộ gia đình (hộ) | D7: Tỷ lệ so với tiêu chuẩn (%)
A8: 1 | B8: 2 | C8: 3 | D8: 4 | E8: 5 | F8: 6 | G8: 7 | H8: 8 | I8: 9 | J8: 10
A9: 1 | B9: Đào Đặng | C9: 2215 | D9: =C9/550*100 -> 402.72727 | E9: 7757 | F9: Không | G9: X
A10: 2 | B10: Tính Linh | C10: 570 | D10: =C10/550*100 -> 103.63636 | E10: 1854 | F10: Không | G10: X
A11: 3 | B11: Đặng Cầu | C11: 578 | D11: =C11/550*100 -> 105.09091 | E11: 1869 | F11: Không | G11: X
A12: 4 | B12: An Thượng | C12: 845 | D12: =C12/550*100 -> 153.63636 | E12: 2709 | F12: Không | I12: X
A13: 5 | B13: An Bình | C13: 1042 | D13: =C13/550*100 -> 189.45455 | E13: 3157 | F13: Không | I13: X
A14: 6 | B14: An Dương | C14: 912 | D14: =C14/550*100 -> 165.81818 | E14: 2493 | F14: Không | I14: X
A15: 7 | B15: Chợ Gạo | C15: 606 | D15: =C15/550*100 -> 110.18182 | E15: 2593 | F15: Không | I15: X
A16: 8 | B16: Ấp Dâu | C16: 652 | D16: =C16/550*100 -> 118.54545 | E16: 1567 | F16: Không | I16: X
A17: 9 | B17: Nhân Dục | C17: 929 | D17: =C17/550*100 -> 168.90909 | E17: 2722 | F17: Không | G17: X
A18: 10 | B18: Chùa Chuông | C18: 673 | D18: =C18/550*100 -> 122.36364 | E18: 1645 | F18: Không | G18: X
A19: 11 | B19: Tô Hiệu | C19: 377 | D19: =C19/550*100 -> 68.545455 | E19: 990 | F19: Không | G19: X
A20: 12 | B20: An Đông | C20: 476 | D20: =C20/550*100 -> 86.545455 | E20: 1008 | F20: Không | G20: X
A21: 13 | B21: An Vũ | C21: 510 | D21: =C21/550*100 -> 92.727273 | E21: 1254 | F21: Không | G21: X
A22: 14 | B22: An Thịnh | C22: 350 | D22: =C22/550*100 -> 63.636364 | E22: 1379 | F22: Không | G22: X
A23: 15 | B23: An Chiểu 1 | C23: 850 | D23: =C23/550*100 -> 154.54545 | E23: 2778 | F23: Không | G23: X
A24: 16 | B24: Đông Chiểu | C24: 565 | D24: =C24/550*100 -> 102.72727 | E24: 1161 | F24: Không | G24: X
A25: 17 | B25: Vân Phương | C25: 400 | D25: =C25/550*100 -> 72.727273 | E25: 1135 | F25: Không | G25: X
A26: 18 | B26: An Chiểu 2 | C26: 1600 | D26: =C26/550*100 -> 290.90909 | E26: 4715 | F26: Không | G26: X
A27: 19 | B27: Bãi Sậy Lê Lợi | C27: 220 | D27: =C27/550*100 -> 40 | E27: 1287 | F27: Không | G27: X
A28: 20 | B28: Lê Lai | C28: 240 | D28: =C28/550*100 -> 43.636364 | E28: 742 | F28: Không | G28: X
... A48: 40 | B48: Bãi Sậy (MK) | C48: 180 | D48: =C48/550*100 -> 32.727273 | E48: 733 | F48: Không | G48: X
A49: Tổng số: 40
A51: Ghi chú:
A52: Tỷ lệ % về quy mô số hộ gia đình của thôn, tổ dân phố được tính theo tiêu chuẩn của thôn, tổ dân phố tương ứng quy định tại Nghị định số 185/2026/NĐ-CP ngày 26/5/2026 của Chính phủ về tiêu chuẩn của thôn, tổ dân phố

Sheet PL1B
A1: UBND PHƯỜNG PHỐ HIẾN
A2: PHỤ LỤC 1B
A3: THỐNG KÊ TỔ DÂN PHỐ KHÔNG THỰC HIỆN SẮP XẾP, TỔ CHỨC LẠI
A4: =PL1A!A4 -> (Kèm theo Đề án số /ĐA-UBND ngày /06/2026 của UBND phường Phố Hiến)
A6: STT | B6: Tên Tổ dân phố | C6: Số hộ gia đình | D6: Tiêu chuẩn quy mô hộ gia đình so với quy định (đạt tỷ lệ %) | E6: Số dân | F6: Lý do không thực hiện sắp xếp (Trình bày rõ các yếu tố đặc thù, lý do không sắp xếp)
A8: 1 | B8: 2 | C8: 3 | D8: 4 | E8: 5 | F8: 6
A9: I | B9: KHÔNG SẮP XẾP DO ĐÃ ĐẢM BẢO TIÊU CHUẨN QUY MÔ HỘ GIA ĐÌNH
A10: 1 | B10: An Thượng | C10: =PL1A!C12 -> 845 | D10: =PL1A!D12 -> 153.63636 | E10: 2709 | F10: Đủ tiêu chuẩn theo quy định
A11: 2 | B11: An Bình | C11: =PL1A!C13 -> 1042 | D11: =PL1A!D13 -> 189.45455 | E11: 3157 | F11: Đủ tiêu chuẩn theo quy định
A12: 3 | B12: An Dương | C12: =PL1A!C14 -> 912 | D12: =PL1A!D14 -> 165.81818 | E12: 2493 | F12: Đủ tiêu chuẩn theo quy định
A13: 4 | B13: Chợ Gạo | C13: =PL1A!C15 -> 606 | D13: =PL1A!D15 -> 110.18182 | E13: 2593 | F13: Đủ tiêu chuẩn theo quy định
A14: 5 | B14: Ấp Dâu | C14: =PL1A!C16 -> 652 | D14: =PL1A!D16 -> 118.54545 | E14: 1567 | F14: Đủ tiêu chuẩn theo quy định
B15: Tổng số: 05
A16: II | B16: CHƯA ĐẠT TIÊU CHUẨN NHƯNG KHÔNG SẮP XẾP DO CÓ CÁC YẾU TỐ ĐẶC THÙ
B17: Tổng số: 00
A20: * Ghi chú: Tổng số thôn, TDP không thực hiện sắp xếp, tổ chức lại tại PL 1A phải thống nhất số liệu với Phụ lục 1B

Sheet PL 2A
A1: ỦY BAN NHÂN DÂN PHƯỜNG PHỐ HIẾN
A2: PHỤ LỤC 2A Phương án sắp xếp, tổ chức lại tổ dân phố trên địa bàn phường Phố Hiến
A3: =PL1B!A4 -> (Kèm theo Đề án số /ĐA-UBND ngày /06/2026 của UBND phường Phố Hiến)
A5: TT | B5: Tên tổ dân phố cũ | C5: Số hộ gia đình (hộ) | D5: Tổng số dân (người) | E5: Diện tích | F5: Đảng viên | G5: Phương án sắp xếp, tổ chức lại | P5: Ghi chú
D6: Tổng số dân | G6: Phương án, tên tổ dân phố mới | H6: Số hộ gia đình (hộ) | I6: Đánh giá tiêu chuẩn theo quy định (đạt tỷ lệ %) | J6: Tổng số dân (người) | K6: Diện tích | L6: Đảng viên | M6: Dự kiến Nhà văn hóa | N6: Cơ sở hạ tầng kinh tế xã hội phục vụ sinh hoạt của cộng đồng dân cư | O6: Lý do
D7: Tổng số dân
A8: 1 | B8: 2 | C8: 3 | D8: 4 | G8: 5 | H8: 6 | I8: 7 | J8: 8 | N8: 9 | O8: 9 | P8: 10
A9: 1 | B9: Đào Đặng | C9: 2215 | D9: 7757 | E9: 347.76 | F9: 190 | G9: Đào Đặng | H9: =C9-C10 -> 1915 | I9: =H9/550*100 -> 348.18182 | J9: =D9-D10 -> 6257 | K9: =E9-E10-E11 -> 252.48 | L9: =F9 -> 190 | M9: Đào Đặng khu 4 | N9: 03 Nhà văn hóa | O9: Để phục vụ công tác quản lý hành chính địa phương
B10: Tách một phần diện tích: 55.78 ha và 300 hộ dân của Tổ dân phố Đào Đặng (đường QL38 hướng giáp Tính Linh để nhập vào Tổ dân phố Tính Linh) | C10: 300 | D10: 1500 | E10: 55.78
B11: Tách một phần diện tích: 39.50 ha của Tổ dân phố Đào Đặng phía Tây đường nối Cao tốc Hà Nội - Hải phòng để nhập vào Tổ dân phố Đặng Cầu | E11: 39.5
A12: 2 | B12: Tính Linh | C12: 570 | D12: 1854 | E12: 96.95 | F12: 44 | G12: Tính Linh | H12: =C12+C13 -> 870 | I12: =H12/550*100 -> 158.18182 | J12: =D12+D13 -> 3354 | K12: =E12+E13 -> 152.73 | L12: =F12 -> 44 | M12: Tính Linh | N12: 01 Nhà văn hóa | O12: Để phục vụ công tác quản lý hành chính địa phương
B13: Nhập một phần diện tích 55.78 ha và 300 hộ dân của Tổ dân phố Đào Đặng (đường QL38 hướng giáp Tính Linh để nhập vào Tổ dân phố Tính Linh) | C13: 300 | D13: 1500 | E13: 55.78
A14: 3 | B14: Đặng Cầu | C14: 578 | D14: 1869 | E14: 112.7 | F14: 68 | G14: Đặng Cầu | H14: =C14 -> 578 | I14: =H14/550*100 -> 105.09091 | J14: =D14 -> 1869 | K14: =E14+E15 -> 152.2 | L14: =F14 -> 68 | M14: Đặng Cầu | N14: 01 Nhà văn hóa | O14: Để phục vụ công tác quản lý hành chính địa phương | P14: Dự kiến dân số tăng do có dự án nhà ở xã hội Phố Hiến
B15: Nhập một phần diện tích: 39.50 ha của Tổ dân phố Đào Đặng phía Tây đường nối Cao tốc Hà Nội - Hải phòng để nhập vào Tổ dân phố Đặng Cầu | E15: 39.5
A16: 4 | B16: An Thượng | C16: 845 | D16: 2709 | E16: 111.86 | F16: 85 | G16: =B16 -> An Thượng | H16: =C16 -> 845 | I16: =H16/550*100 -> 153.63636 | J16: =D16 -> 2709 | K16: =E16 -> 111.86 | L16: =F16 -> 85 | M16: An Thượng | N16: 01 Nhà văn hóa | O16: Đủ tiêu chuẩn theo quy định | P16: Dự kiến dân số tăng do khu đô thị 7 ha
A17: 5 | B17: An Bình | C17: 1042 | D17: 3157 | E17: 100 | F17: 156 | G17: =B17 -> An Bình | H17: =C17 -> 1042 | I17: =H17/550*100 -> 189.45455 | J17: =D17 -> 3157 | K17: =E17 -> 100 | L17: =F17 -> 156 | M17: An Bình | N17: 01 Nhà văn hóa | O17: Đủ tiêu chuẩn theo quy định | P17: Dự kiến dân số tăng do có dự án nhà ở xã hội công ty May & Đay
A18: 6 | B18: An Dương | C18: 912 | D18: 2493 | E18: 76.84 | F18: 172 | G18: =B18 -> An Dương | H18: =C18 -> 912 | I18: =H18/550*100 -> 165.81818 | J18: =D18 -> 2493 | K18: =E18 -> 76.84 | L18: =F18 -> 172 | M18: An Dương | N18: 01 Nhà văn hóa | O18: Đủ tiêu chuẩn theo quy định
A19: 7 | B19: Chợ Gạo | C19: 606 | D19: 2093 | E19: 23.82 | F19: 145 | G19: =B19 -> Chợ Gạo | H19: =C19 -> 606 | I19: =H19/550*100 -> 110.18182 | J19: =D19 -> 2093 | K19: =E19 -> 23.82 | L19: =F19 -> 145 | M19: Chợ Gạo | N19: 01 Nhà văn hóa | O19: Đủ tiêu chuẩn theo quy định
A20: 8 | B20: Ấp Dâu | C20: 652 | D20: 2067 | E20: 47.93 | F20: 137 | G20: =B20 -> Ấp Dâu | H20: =C20 -> 652 | I20: =H20/550*100 -> 118.54545 | J20: =D20 -> 2067 | K20: =E20 -> 47.93 | L20: =F20 -> 137 | M20: Ấp Dâu | N20: 01 Nhà văn hóa | O20: Đủ tiêu chuẩn theo quy định | P20: Dự kiến dân số tăng do có dự án nhà ở xã hội PH
A21: 9 | B21: Nhân Dục | C21: 929 | D21: 2722 | E21: 92.95 | F21: 119 | G21: Nhân Dục | H21: =C21+C23-C24 -> 1562 | I21: =H21/550*100 -> 284 | J21: =D21+D23-D24 -> 4257 | K21: =E21-E22+E23-E24 -> 101.93 | L21: =F21+F23 -> 218 | M21: Chùa Chuông | N21: 02 Nhà văn hóa | O21: Để phục vụ công tác quản lý hành chính địa phương
B22: Tách toàn bộ phần diện tích ngoài đê với diện tích 41.96 ha thuộc Tổ dân phố Nhân Dục để nhập với Tổ dân phố Lê Hồng Phong (mới) | E22: 41.96
B23: Chùa Chuông | C23: 673 | D23: 1645 | E23: 88.7 | F23: 99
B24: Tách toàn bộ phần diện tích ngoài đê với diện tích 37.76 ha, 40 hộ dân thuộc Tổ dân phố Chùa Chuông để nhập với Tổ dân phố Lê Hồng Phong (mới) | C24: 40 | D24: 110 | E24: 37.76
A25: 10 | B25: Bãi Sậy | C25: 220 | D25: 1287 | E25: 3.48 | F25: 45 | G25: Lê Lai | H25: =C25+C26+C27 -> 895 | I25: =H25/550*100 -> 162.72727 | J25: =D25+D26+D27 -> 3553 | K25: =E25+E26+E27 -> 32.49 | L25: =F25+F26+F27 -> 239 | M25: Nguyễn Thiện Thuật | N25: 03 Nhà văn hóa | O25: Không đảm bảo quy mô số hộ gia đình
B26: Lê Lai | C26: 240 | D26: 742 | E26: 23.67 | F26: 99
B27: Nguyễn Thiện Thuật | C27: 435 | D27: 1524 | E27: 5.34 | F27: 95
A28: 11 | B28: Tô Hiệu | C28: 377 | D28: 990 | E28: 13.85 | F28: 66 | G28: An Vũ | H28: =C28+C29+C30+C31 -> 1713 | I28: =H28/550*100 -> 311.45455 | J28: =D28+D29+D30+D31 -> 4631 | K28: =E28+E29+E30+E31+E32 -> 135.89 | L28: =F28+F29+F30+F31 -> 242 | M28: An Thịnh | N28: 04 Nhà văn hóa | O28: Không đảm bảo quy mô số hộ gia đình
B29: An Đông | C29: 476 | D29: 1008 | E29: 26.3 | F29: 48
B30: An Vũ | C30: 510 | D30: 1254 | E30: 13.1 | F30: 63
B31: An Thịnh | C31: 350 | D31: 1379 | E31: 28.85 | F31: 65
B32: Cánh đồng chung 4 Tổ dân phố | E32: 53.79
A33: 12 | B33: An Chiểu 2 | C33: 1600 | D33: 4715 | E33: 275.3 | F33: 148 | G33: An Chiểu | H33: =C33 -> 1600 | I33: =H33/550*100 -> 290.90909 | J33: =D33 -> 4715 | K33: =E33+E34-E35 -> 226.96 | L33: =F33 -> 148 | M33: An Chiểu 2 | N33: 01 Nhà văn hóa | O33: Để phục vụ công tác quản lý hành chính địa phương | P33: Dự kiến dân số tăng do có dự án nhà ở xã hội An Chiểu
B34: Nhập 12,34 ha diện tích đất thuộc Tổ dân phố Đông Chiểu vào Tổ dân phố An Chiểu (mới) | E34: 12.34
B35: Tách 60.68 ha diện tích đất An Chiểu 2 giáp Đông Chiểu để nhập vào Tổ dân phố Đông Chiểu (mới) | E35: 60.68
A36: 13 | B36: Đông Chiểu | C36: 565 | D36: 1161 | E36: 57.43 | F36: 31 | G36: Đông Chiểu | H36: =C36 -> 565 | I36: =H36/550*100 -> 102.72727 | J36: =D36 -> 1161 | K36: =E36+E37-E38 -> 105.77 | L36: =F36 -> 31 | M36: Đông Chiểu | N36: 01 Nhà văn hóa | O36: Để phục vụ công tác quản lý hành chính địa phương | P36: Dự kiến dân số tăng do có dự án nhà ở xã hội An Chiểu
B37: Nhập 60.68 ha diện tích đất An Chiểu 2 để nhập vào Tổ dân phố Đông Chiểu (mới) | E37: 60.68
B38: Tách 12,34 ha diện tích đất thuộc Tổ dân phố Đông Chiểu vào Tổ dân phố An Chiểu (mới) | E38: 12.34
A39: 14 | B39: Vân Phương | C39: 400 | D39: 1135 | E39: 66.75 | F39: 17 | G39: Vân Phương | H39: =C39+C40 -> 1250 | I39: =H39/550*100 -> 227.27273 | J39: =D39+D40 -> 3413 | K39: =E39+E40 -> 222.82 | L39: =F39+F40 -> 69 | M39: Vân Phương | N39: 02 Nhà văn hóa | O39: Để phục vụ công tác quản lý hành chính địa phương
B40: An Chiểu 1 | C40: 850 | D40: 2278 | E40: 156.07 | F40: 52
A41: 15 | B41: Điện Biên 1 | C41: 422 | D41: 1342 | E41: 4.7 | F41: 41 | G41: Nguyễn Huệ | H41: =C41+C42+C43 -> 912 | I41: =H41/550*100 -> 165.81818 | J41: =D41+D42+D43 -> 3311 | K41: =E41+E42+E43 -> 56.42 | L41: =F41+F42+F43 -> 308 | M41: Nguyễn Huệ | N41: 03 Nhà văn hóa | O41: Không đảm bảo quy mô số hộ gia đình | P41: Dự kiến dân số tăng do có dự án Khu đô thị An Vũ
B42: Nguyễn Trãi | C42: 170 | D42: 959 | E42: 3.18 | F42: 85
B43: Nguyễn Huệ | C43: 320 | D43: 1010 | E43: 48.54 | F43: 182
A44: 16 | B44: Điện Biên 2 | C44: 465 | D44: 1337 | E44: 5.26 | F44: 74 | G44: Hai Bà Trưng | H44: =C44+C45+C46 -> 920 | I44: =H44/550*100 -> 167.27273 | J44: =D44+D45+D46 -> 3192 | K44: =E44+E45+E46 -> 13.12 | L44: =F44+F45+F46 -> 208 | M44: Trưng Nhị | N44: 03 Nhà văn hóa | O44: Không đảm bảo quy mô số hộ gia đình
B45: Trưng Nhị | C45: 185 | D45: 867 | E45: 3.97 | F45: 68
B46: Hai Bà Trưng | C46: 270 | D46: 988 | E46: 3.89 | F46: 66
A47: 17 | B47: Đông Thành | C47: 428 | D47: 1599 | E47: 12.35 | F47: 208 | G47: Đông Thành | H47: =C47+C48 -> 728 | I47: =H47/550*100 -> 132.36364 | J47: =D47+D48 -> 2523 | K47: =E47+E48 -> 14.84 | L47: =F47+F48 -> 270 | M47: Đông Thành | N47: 02 Nhà văn hóa | O47: Không đảm bảo quy mô số hộ gia đình
B48: Nam Thành | C48: 300 | D48: 924 | E48: 2.49 | F48: 62
A49: 18 | B49: Tây Thành | C49: 280 | D49: 966 | E49: 3.31 | F49: 73 | G49: Tây Thành | H49: =C49+C50 -> 690 | I49: =H49/550*100 -> 125.45455 | J49: =D49+D50 -> 2375 | K49: =E49+E50 -> 9.43 | L49: =F49+F50 -> 148 | M49: Tây Thành | N49: 02 Nhà văn hóa | O49: Không đảm bảo quy mô số hộ gia đình
B50: Bắc Thành | C50: 410 | D50: 1409 | E50: 6.12 | F50: 75
A51: 19 | B51: Phạm Ngũ Lão | C51: 298 | D51: 1023 | E51: 8.49 | F51: 54 | G51: Điện Biên | H51: =C51+C52+C53 -> 1150 | I51: =H51/550*100 -> 209.09091 | J51: =D51+D52+D53 -> 3507 | K51: =E51+E52+E53 -> 17.41 | L51: =F51+F52+F53 -> 169 | M51: Vọng Cung | N51: 01 Nhà văn hóa | O51: Không đảm bảo quy mô số hộ gia đình
B52: Điện Biên | C52: 535 | D52: 1486 | E52: 4.62 | F52: 61
B53: Vọng Cung | C53: 317 | D53: 998 | E53: 4.3 | F53: 54
A54: 20 | B54: Bạch Đằng Giang | C54: 330 | D54: 923 | E54: 27.05 | F54: 80 | G54: Bạch Đằng Giang | H54: =C54+C55+C56+C57 -> 1050 | I54: =H54/550*100 -> 190.90909 | J54: =D54+D55+D56+D57 -> 3261 | K54: =E54+E55+E56+E57 -> 55.83 | L54: =F54+F55+F56+F57 -> 174 | M54: Phan Đình Phùng | N54: 04 Nhà văn hóa | O54: Không đảm bảo quy mô số hộ gia đình
B55: Tân Thị | C55: 250 | D55: 727 | E55: 6.18 | F55: 32
B56: Bãi Sậy MK | C56: 180 | D56: 733 | E56: 14.54 | F56: 25
B57: Phan Đình Phùng | C57: 290 | D57: 878 | E57: 8.06 | F57: 37
A58: 21 | B58: Bắc Lê Hồng Phong | C58: 310 | D58: 1020 | E58: 89.41 | F58: 14 | G58: Lê Hồng Phong | H58: =C58+C59+C61 -> 670 | I58: =H58/550*100 -> 121.81818 | J58: =D58+D59+D61 -> 2206 | K58: =E58+E59+E60+E61 -> 239.23 | L58: =F58+F59 -> 58 | M58: Nam Lê Hồng Phong | N58: 02 Nhà văn hóa | O58: Không đảm bảo quy mô số hộ gia đình | P58: Dự kiến dân số tăng do có dự án tái hiện Phố Hiến cổ và các khu tái định cư
B59: Nam Lê Hồng Phong | C59: 320 | D59: 1076 | E59: 70.1 | F59: 44
B60: Nhập 41.96 ha phần diện tích ngoài đê thuộc Tổ dân phố Nhân Dục | E60: 41.96
B61: Nhập 37.76 ha và 40 hộ dân phần diện tích ngoài đê thuộc Tổ dân phố Chùa Chuông | C61: 40 | D61: 110 | E61: 37.76

Sheet PL2B
A1: ỦY BAN NHÂN DÂN PHƯỜNG PHỐ HIẾN
A2: PHỤ LỤC 2B Tổng hợp số lượng, quy mô tổ dân phố sau khi sắp xếp, tổ chức lại trên địa bàn phường Phố Hiến
A3: ='PL 2A'!A3:P3 -> (Kèm theo Đề án số /ĐA-UBND ngày /06/2026 của UBND phường Phố Hiến)
A5: TT | B5: Tên xã, phường | C5: Số thôn, tổ dân phố trước sắp xếp, tổ chức lại | D5: Số tổ dân phố thực hiện sắp xếp, tổ chức lại | E5: Số tổ dân phố không thực hiện sắp xếp | G5: Số tổ dân phố sau sắp xếp, tổ chức lại | H5: Số lượng phương án sắp xếp, tổ chức lại | L5: Số tổ dân phố giảm | M5: Số người HĐ KCT dự kiến giảm | N5: Số người tham gia hoạt động trực tiếp dự kiến giảm | O5: Trụ sở nhà văn hóa dôi dư | P5: Ghi chú
E7: Do đảm bảo tiêu chuẩn theo quy định | F7: Chưa đảm bảo tiêu chuẩn nhưng không thực hiện sắp xếp, tổ chức lại | H7: Sắp xếp 02 TDP | I7: Sắp xếp 03 TDP | J7: Sắp xếp từ 04 TDP trở lên | K7: …
A8: A | B8: B | C8: 1 | D8: 2 | E8: 3 | F8: 4 | G8: 5 | H8: 6 | I8: 7 | J8: 8 | K8: 9 | L8: 10 | M8: 11 | N8: 12 | O8: 13 | P8: 14
A9: 1 | B9: Phố Hiến | C9: 40 | D9: 35 | E9: 5 | F9: 0 | G9: 21 | H9: 9 | I9: 4 | J9: 2 | K9: 0 | L9: 19 | O9: Không dôi dư, đề nghị tiếp tục sử dụng để làm các điểm sinh hoạt văn hóa cộng động/ dôi dư 01 trụ sở

Sheet PL 3A
A1: ỦY BAN NHÂN DÂN XÃ/PHƯỜNG…
A3: PHỤ LỤC 3A Danh sách người hoạt động không chuyên trách ở thôn, tổ dân phố trên địa bàn xã/ phường trước sắp xếp, tổ chức lại thôn TDP…
A4: (Kèm theo Đề án số /ĐA-UBND ngày /05/2026 của UBND ….)
A5: STT | B5: Họ và tên | C5: Ngày tháng năm sinh | D5: Nữ | E5: Đảng viên | F5: Chức vụ, chức danh Người hoạt động KCT ở thôn, tổ dân phố | G5: Mức phụ cấp hiện hưởng | H5: Chia theo độ tuổi | L5: Chia theo trình độ đào tạo | P5: Đang hưởng chế độ hưu trí hoặc đã đủ tuổi nghỉ hưu theo quy định
H7: Dưới 40 tuổi | I7: Từ 40 tuổi đến dưới 50 tuổi | J7: Từ 50 tuổi đến dưới 60 tuổi | K7: Trên 60 tuổi | L7: Trên ĐH | M7: Đại học | N7: Cao đẳng, trung cấp | O7: Dưới trung cấp
A8: 1 | B8: 2 | C8: 3 | D8: 4 | E8: 5 | F8: 6 | G8: 7 | H8: 8 | I8: 9 | J8: 10 | K8: 11 | L8: 12 | M8: 13 | N8: 14 | O8: 15 | P8: 16
B9: Xã/phường….
A10: I | B10: Thôn/ TDP …
A11: 1 | B11: Nguyễn Văn A | E11: 1 | F11: Bí thư chi bộ kiêm Tổ trưởng TDP
A12: 2 | B12: Trần Thị B | D12: 1 | E12: 1 | F12: Trưởng Ban Công tác mặt trận
A13: 3 | B13: …
A14: II | B14: Thôn/ TDP …
A15: 1 | B15: Nguyễn Văn A | E15: 1 | F15: Bí thư chi bộ
A16: 2 | B16: Trần Thị B | D16: 1 | F16: Tổ trưởng Tổ dân phố
A17: 3 | B17: …
B18: Tổng số
B19: Lưu ý: Số lượng người trong danh sách tại Phụ lục số 3A phải thống nhất với số lượng tại Phụ lục số 3D

Sheet PL3B
A1: ỦY BAN NHÂN DÂN XÃ/PHƯỜNG …
A2: PHỤ LỤC 3B Danh sách người tham gia hoạt động trực tiếp ở thôn, tổ dân phố trên địa bàn xã/ phường trước sắp xếp, tổ chức lại thôn TDP…
A3: (Kèm theo Đề án số /ĐA-UBND ngày /05/2026 của UBND ….)
A4: STT | B4: Họ và tên | C4: Ngày tháng năm sinh | D4: Nữ | E4: Đảng viên | F4: Chức vụ, chức danh tham gia hoạt động trực tiếp ở thôn, tổ dân phố | G4: Mức phụ cấp/ hỗ trợ hiện hưởng | H4: Chia theo độ tuổi | L4: Chia theo trình độ đào tạo | P4: Đang hưởng chế độ hưu trí hoặc đã đủ tuổi nghỉ hưu theo quy định
H6: Dưới 40 tuổi | I6: Từ 40 tuổi đến dưới 50 tuổi | J6: Từ 50 tuổi đến dưới 60 tuổi | K6: Trên 60 tuổi | L6: Trên ĐH | M6: Đại học | N6: Cao đẳng, trung cấp | O6: Dưới trung cấp
A7: 1 | B7: 2 | C7: 3 | D7: 4 | E7: 5 | F7: 6 | G7: 7 | H7: 8 | I7: 9 | J7: 10 | K7: 11 | L7: 12 | M7: 13 | N7: 14 | O7: 15 | P7: 16
B8: Xã/phường….
A9: I | B9: Thôn/ TDP …
A10: 1 | B10: Nguyễn Văn A | E10: 1 | F10: Tổ phó TDP
A11: 2 | B11: Trần Thị B | D11: 1 | F11: Chi hội trưởng phụ nữ
A12: 3 | B12: … | F12: …
A13: II | B13: Thôn/ TDP …
A14: 1 | B14: Nguyễn Văn A | F14: Phó Trưởng thôn
A15: 2 | B15: Trần Thị B | D15: 1 | E15: 1 | F15: Thôn đội trưởng
A16: 3 | B16: … | F16: …
B18: Tổng số
B19: Lưu ý: Số lượng người trong danh sách tại Phụ lục số 3B phải thống nhất với số lượng tại Phụ lục số 3D

Sheet  PL3C
A1: ỦY BAN NHÂN DÂN XÃ/PHƯỜNG …
A2: PHỤ LỤC 3C Tổng hợp số lượng các tổ chức của thôn, tổ dân phố trên địa bàn xã, phường …
A3: (Kèm theo Đề án số /ĐA-UBND ngày /05/2026 của UBND ….)
A5: TT | B5: Tên địa phương | C5: Số lượng thôn/ tổ dân phố | D5: Các tổ chức tại thôn, TDP | W5: Ghi chú
D6: Trước khi sắp xếp thôn, tổ dân phố | M6: Sau khi sắp xếp thôn, tổ dân phố | V6: So sánh trước khi sắp xếp và sau sắp xếp
D7: Tổng số | E7: Trong đó | M7: Tổng số | N7: Trong đó
E8: Chi bộ | F8: Ban công tác Mặt trận | G8: Chi hội CCB | H8: Chi hội phụ nữ | I8: Chi đoàn TN | J8: Chi hội nông dân | K8: Ban Giám sát đầu tư của cộng đồng | L8: Khác (Chữ thập đỏ, người cao tuổi...) | N8: Chi bộ | O8: Ban công tác Mặt trận | P8: Chi hội CCB | Q8: Chi hội phụ nữ | R8: Chi đoàn TN | S8: Chi hội nông dân | T8: Ban Giám sát đầu tư của cộng đồng | U8: Khác (Chữ thập đỏ, người cao tuổi...)
A9: 1 | B9: 2 | C9: 3 | D9: 4 | E9: 5 | F9: 6 | G9: 7 | H9: 8 | I9: 9 | J9: 10 | K9: 11 | L9: 12 | M9: 13 | N9: 14 | O9: 15 | P9: 16 | Q9: 17 | R9: 18 | S9: 19 | T9: 20 | U9: 21 | V9: 22=13-4 | W9: 23
A10: 1 | B10: Xã, phường …

Sheet PL3D
A1: UBND XÃ /PHƯỜNG: ……
A2: PHỤ LỤC 3D
A3: THỐNG KÊ SỐ LƯỢNG NGƯỜI HOẠT ĐỘNG KHÔNG CHUYÊN TRÁCH, NGƯỜI TRỰC TIẾP THAM GIA HOẠT ĐỘNG Ở THÔN, TỔ DÂN PHỐ; NGƯỜI THAM GIA KHÁC Ở THÔN, TỔ DÂN PHỐ VÀ PHƯƠNG ÁN SẮP XẾP, BỐ TRÍ SAU KHI THỰC HIỆN SẮP XẾP THÔN, TỔ DÂN PHỐ
A4: (Kèm theo Đề án số /ĐA-UBND ngày /05/2026 của UBND ….)
A5: STT | B5: Tên thôn, tổ dân phố | C5: Số lượng theo định mức | G5: Số lượng hiện có | K5: Số lượng dự kiến bố trí, sắp xếp tại thôn/tổ dân phố mới | O5: Số lượng dự kiến dôi dư sau sắp xếp | S5: Phương án giải quyết dôi dư
C6: Người hoạt động không chuyên trách ở thôn, tổ dân phố | D6: Người trực tiếp tham gia công tác ở thôn, tổ dân phố | E6: Người tham gia Tổ đảm bảo ANTT ở cơ sở | F6: … | G6: Người hoạt động không chuyên trách ở thôn, tổ dân phố | H6: Người trực tiếp tham gia công tác ở thôn, tổ dân phố | I6: Người tham gia Tổ đảm bảo ANTT ở cơ sở | J6: … | K6: Người hoạt động không chuyên trách ở thôn, tổ dân phố | L6: Người trực tiếp tham gia công tác ở thôn, tổ dân phố | M6: Người tham gia Tổ đảm bảo ANTT ở cơ sở | N6: … | O6: Người hoạt động không chuyên trách ở thôn, tổ dân phố | P6: Người trực tiếp tham gia công tác ở thôn, tổ dân phố | Q6: Người tham gia Tổ đảm bảo ANTT ở cơ sở | R6: …
A7: 1 | B7: 2 | C7: 3 | D7: 4 | E7: 5 | F7: 6 | G7: 7 | H7: 8 | I7: 9 | J7: 10 | K7: 11 | L7: 12 | M7: 13 | N7: 14 | O7: 15 | P7: 16 | Q7: 17 | R7: 18 | S7: 19
B8: Xã/phường...
A9: 1 | B9: Thôn/Tổ dân phố….
A10: 2 | B10: …
B11: …
B12: Tổng số

Sheet PL 4
B1: UBND PHƯỜNG PHỐ HIẾN
A3: PHỤ LỤC 3
A4: PHƯƠNG ÁN SỬ DỤNG TRỤ SỞ, NHÀ VĂN HÓA
A5: CỦA CÁC TỔ DÂN PHỐ SAU SẮP XẾP
A6: =PL1A!A4 -> (Kèm theo Đề án số /ĐA-UBND ngày /06/2026 của UBND phường Phố Hiến)
A9: STT | B9: Tổ dân phố trước sắp xếp | C9: Tên Tổ dân phố sau sắp xếp | D9: Số lượng hiện có | H9: Số lượng sử dụng | L9: Phương án xử lý | P9: Ghi chú
L10: Số lượng dôi dư | M10: Phương án
D11: Tổng số | E11: Nhà văn hóa | F11: Khu thể thao | G11: … | H11: Tổng số | I11: Nhà văn hóa | J11: Khu thể thao | K11: … | M11: Tiếp tục sử dụng | N11: Chuyển giao cho quan có thẩm quyền quản lý, sử dụng | O11: Phương án khác
A12: 1 | B12: 2 | C12: 3 | D12: 4 | E12: 5 | F12: 6 | G12: 7 | H12: 8 | I12: 9 | J12: 10 | K12: 11 | L12: 12 | M12: 13 | N12: 14 | O12: 15 | P12: 16
A13: 1 | B13: Đào Đặng | C13: Đào Đặng | D13: 2 | E13: 2 | F13: 0 | H13: 2 | I13: 2 | J13: 0 | L13: 0 | M13: 3 | N13: 0 | O13: 0 | P13: 01 sử dụng làm nhà văn hóa; 02 điểm sử dụng để sinh hoạt cộng đồng
A14: 2 | B14: Tính Linh | C14: =B14 -> Tính Linh | D14: 1 | E14: 1 | F14: 0 | H14: 1 | I14: 1 | J14: 0 | L14: 0 | M14: 1 | N14: 0 | O14: 0
A15: 3 | B15: Đặng Cầu | C15: =B15 -> Đặng Cầu | D15: 1 | E15: 1 | F15: 0 | H15: 1 | I15: 1 | J15: 0 | L15: 0 | M15: 1 | N15: 0 | O15: 0
A16: 4 | B16: An Thượng | C16: =B16 -> An Thượng | D16: 1 | E16: 1 | F16: 0 | H16: 1 | I16: 1 | J16: 0 | L16: 0 | M16: 1 | N16: 0 | O16: 0
A17: 5 | B17: An Bình | C17: =B17 -> An Bình | D17: 1 | E17: 1 | F17: 0 | H17: 1 | I17: 1 | J17: 0 | L17: 0 | M17: 1 | N17: 0 | O17: 0
A18: 6 | B18: An Dương | C18: =B18 -> An Dương | D18: 1 | E18: 1 | F18: 0 | H18: 1 | I18: 1 | J18: 0 | L18: 0 | M18: 1 | N18: 0 | O18: 0
A19: 7 | B19: Chợ Gạo | C19: =B19 -> Chợ Gạo | D19: 1 | E19: 1 | F19: 0 | H19: 1 | I19: 1 | J19: 0 | L19: 0 | M19: 1 | N19: 0 | O19: 0
A20: 8 | B20: Ấp Dâu | C20: =B20 -> Ấp Dâu | D20: 1 | E20: 1 | F20: 0 | H20: 1 | I20: 1 | J20: 0 | L20: 0 | M20: 1 | N20: 0 | O20: 0
A21: 9 | B21: Nhân Dục | C21: Nhân Dục | D21: 2 | E21: 2 | F21: 0 | H21: 2 | I21: 2 | J21: 0 | L21: 0 | M21: 2 | N21: 0 | O21: 0 | P21: 01 sử dụng làm nhà văn hóa; 01 điểm sử dụng để sinh hoạt cộng đồng
A22: 10 | B22: Chùa Chuông
A23: 11 | B23: Bãi Sậy | C23: Lê Lai | D23: 3 | E23: 3 | F23: 0 | H23: 3 | I23: 3 | J23: 0 | L23: 0 | M23: 3 | N23: 0 | O23: 0 | P23: 01 sử dụng làm nhà văn hóa; 02 điểm sử dụng để sinh hoạt cộng đồng
A24: 12 | B24: Lê Lai
A25: 13 | B25: Nguyễn Thiện Thuật
A26: 14 | B26: Tô Hiệu | C26: An Vũ | D26: 4 | E26: 4 | F26: 0 | H26: 4 | I26: 4 | J26: 0 | L26: 0 | M26: 4 | N26: 0 | O26: 0 | P26: 01 sử dụng làm nhà văn hóa; 03 điểm sử dụng để sinh hoạt cộng đồng
A27: 15 | B27: An Đông
A28: 16 | B28: An Vũ
A29: 17 | B29: An Thịnh
A30: 18 | B30: An Chiểu 2 | C30: An Chiểu | D30: 1 | E30: 1 | F30: 0 | H30: 1 | I30: 1 | J30: 0 | L30: 0 | M30: 1 | N30: 0 | O30: 0
A31: 19 | B31: Đông Chiểu | C31: Đông Chiểu | D31: 1 | E31: 1 | F31: 0 | H31: 1 | I31: 1 | J31: 0 | L31: 0 | M31: 1 | N31: 0 | O31: 0
A32: 20 | B32: Vân Phương | C32: Vân Phương | D32: 2 | E32: 2 | F32: 0 | H32: 2 | I32: 2 | J32: 0 | L32: 0 | M32: 2 | N32: 0 | O32: 0 | P32: 01 sử dụng làm nhà văn hóa; 01 điểm sử dụng để sinh hoạt cộng đồng
A33: 21 | B33: An Chiểu 1
A34: 22 | B34: Điện Biên 1 | C34: Nguyễn Huệ | D34: 3 | E34: 3 | F34: 0 | H34: 3 | I34: 3 | J34: 0 | L34: 0 | M34: 3 | N34: 0 | O34: 0 | P34: 01 sử dụng làm nhà văn hóa; 02 điểm sử dụng để sinh hoạt cộng đồng
A35: 23 | B35: Nguyễn Trãi
A36: 24 | B36: Nguyễn Huệ
A37: 25 | B37: Điện Biên 2 | C37: Hai Bà Trưng | D37: 3 | E37: 3 | F37: 0 | H37: 3 | I37: 3 | J37: 0 | L37: 0 | M37: 3 | N37: 0 | O37: 0 | P37: 01 sử dụng làm nhà văn hóa; 02 điểm sử dụng để sinh hoạt cộng đồng
A38: 26 | B38: Trưng Nhị
A39: 27 | B39: Hai Bà Trưng
A40: 28 | B40: Đông Thành | C40: Đông Thành | D40: 2 | E40: 2 | F40: 0 | H40: 2 | I40: 2 | J40: 0 | L40: 0 | M40: 2 | N40: 0 | O40: 0 | P40: 01 sử dụng làm nhà văn hóa; 01 điểm sử dụng để sinh hoạt cộng đồng
A41: 29 | B41: Nam Thành
A42: 30 | B42: Tây Thành | C42: Tây Thành | D42: 2 | E42: 2 | F42: 0 | H42: 2 | I42: 2 | J42: 0 | L42: 0 | M42: 2 | N42: 0 | O42: 0 | P42: 01 sử dụng làm nhà văn hóa; 01 điểm sử dụng để sinh hoạt cộng đồng
A43: 31 | B43: Bắc Thành
A44: 32 | B44: Phạm Ngũ Lão | C44: Điện Biên | D44: 1 | E44: 1 | F44: 0 | H44: 1 | I44: 1 | J44: 0 | L44: 0 | M44: 1 | N44: 0 | O44: 0 | P44: Phạm Ngũ Lão sử dụng đất đền Ủng; Điện Biên sử dụng đất đền Bà Chúa Kho
A45: 33 | B45: Điện Biên
A46: 34 | B46: Vọng Cung
A47: 35 | B47: Bạch Đằng Giang | C47: Bạch Đằng Giang | D47: 4 | E47: 4 | F47: 0 | H47: 4 | I47: 4 | J47: 0 | L47: 0 | M47: 4 | N47: 0 | O47: 0 | P47: 01 sử dụng làm nhà văn hóa; 03 điểm sử dụng để sinh hoạt cộng đồng
A48: 36 | B48: Tân Thị
A49: 37 | B49: Bãi Sậy (MK)
A50: 38 | B50: Phan Đình Phùng
A51: 39 | B51: Bắc Lê Hồng Phong | C51: Lê Hồng Phong | D51: 2 | E51: 2 | F51: 0 | H51: 2 | I51: 2 | J51: 0 | L51: 0 | M51: 2 | N51: 0 | O51: 0 | P51: 01 sử dụng làm nhà văn hóa; 01 điểm sử dụng để sinh hoạt cộng đồng
A52: 40 | B52: Nam Lê Hồng Phong
A53: Tổng số: 40
